BEGIN:VCALENDAR
VERSION:2.0
PRODID:-//The BUZZTONES Rhythm Revue - ECPv6.15.20//NONSGML v1.0//EN
CALSCALE:GREGORIAN
METHOD:PUBLISH
X-ORIGINAL-URL:https://www.buzztonesrr.com
X-WR-CALDESC:Events for The BUZZTONES Rhythm Revue
REFRESH-INTERVAL;VALUE=DURATION:PT1H
X-Robots-Tag:noindex
X-PUBLISHED-TTL:PT1H
BEGIN:VTIMEZONE
TZID:UTC
BEGIN:STANDARD
TZOFFSETFROM:+0000
TZOFFSETTO:+0000
TZNAME:UTC
DTSTART:20250101T000000
END:STANDARD
END:VTIMEZONE
BEGIN:VEVENT
DTSTART;TZID=UTC:20260509T200000
DTEND;TZID=UTC:20260509T230000
DTSTAMP:20260424T195227
CREATED:20260410T001028Z
LAST-MODIFIED:20260410T001028Z
UID:1240-1778356800-1778367600@www.buzztonesrr.com
SUMMARY:The BUZZTONES Season Premier at the Pilot House!!!
DESCRIPTION:t’s the moment you’ve been waiting for!!\nThe BUZZTONES Rhythm Review Season Premier at the Pilot House in Sandwich\, MA\nMay 9th from 8-11PM!!! \nWHAT:\nFunk\, Food and Frivolity. \nAs always \, The BUZZTONES will be filling the \nHouse with GreatDance Music for Multiple Generations ! \nThe food at the Pilot House is consistently top rate and regionally renowned . \nWHY: \nCats & Chicks ! Ladies and Gentlemen \,people of mass distinction… \nyou will hear some Fabulous Sounds emanating from Solid Rhythm of Low E Leveille on Bass and Backbeat Boss\, Corporal Le Beau on Drums. \nToo Badd Jimm on a myriad of Guitars.. and Vocals. The Buzzard on Leather Larnyx and Gyrations … \n..and let’s don’t forget ! Doctor Dave on Saxaphone and Thirsty himself on the Silverton Trumpet. \nWe’re fixin’ to make this Season’s Debut a KILLAH !! \nSO Add it to your calendar NOW ..and don’t forget to tell your friends. \nThere’s more than one reason why people keep coming back for a BUZZTONES Night at THE Pilot House ! \nSEEYA THERE \nShare this:\n				Email a link to a friend (Opens in new window)\n				Email\n			\n				Share on Facebook (Opens in new window)\n				Facebook\n			\n				Share on X (Opens in new window)\n				X\n			Like this:Like Loading...
URL:https://www.buzztonesrr.com/event/the-buzztones-season-premier-at-the-pilot-house/
LOCATION:The Pilot House\, 14 Gallo Road\, Sandwich\, MA\, United States
END:VEVENT
END:VCALENDAR